BEGIN:VCALENDAR
VERSION:2.0
PRODID:-//Instituto de Física Teórica - ECPv6.15.11//NONSGML v1.0//EN
CALSCALE:GREGORIAN
METHOD:PUBLISH
X-ORIGINAL-URL:https://www.ift.uam-csic.es
X-WR-CALDESC:Events for Instituto de Física Teórica
REFRESH-INTERVAL;VALUE=DURATION:PT1H
X-Robots-Tag:noindex
X-PUBLISHED-TTL:PT1H
BEGIN:VTIMEZONE
TZID:Europe/Madrid
BEGIN:DAYLIGHT
TZOFFSETFROM:+0100
TZOFFSETTO:+0200
TZNAME:CEST
DTSTART:20240331T010000
END:DAYLIGHT
BEGIN:STANDARD
TZOFFSETFROM:+0200
TZOFFSETTO:+0100
TZNAME:CET
DTSTART:20241027T010000
END:STANDARD
BEGIN:DAYLIGHT
TZOFFSETFROM:+0100
TZOFFSETTO:+0200
TZNAME:CEST
DTSTART:20250330T010000
END:DAYLIGHT
BEGIN:STANDARD
TZOFFSETFROM:+0200
TZOFFSETTO:+0100
TZNAME:CET
DTSTART:20251026T010000
END:STANDARD
BEGIN:DAYLIGHT
TZOFFSETFROM:+0100
TZOFFSETTO:+0200
TZNAME:CEST
DTSTART:20260329T010000
END:DAYLIGHT
BEGIN:STANDARD
TZOFFSETFROM:+0200
TZOFFSETTO:+0100
TZNAME:CET
DTSTART:20261025T010000
END:STANDARD
END:VTIMEZONE
BEGIN:VEVENT
DTSTART;TZID=Europe/Madrid:20250508T150000
DTEND;TZID=Europe/Madrid:20250508T160000
DTSTAMP:20260419T151505
CREATED:20250613T073346Z
LAST-MODIFIED:20251218T085528Z
UID:18472-1746716400-1746720000@www.ift.uam-csic.es
SUMMARY:Bubble wall velocity from hydrodynamics
DESCRIPTION:Terminal velocity reached by bubble walls in cosmological first-order phase transitions is an important parameter determining both primordial gravitational wave spectrum and the production of baryon asymmetry in models of electroweak baryogenesis.
URL:https://www.ift.uam-csic.es/event/bubble-wall-velocity-from-hydrodynamics/
LOCATION:IFT Seminar Room/Red Room\, Instituto de Física Teórica (IFT) -C. Nicolás Cabrera\, 13-15\, Fuencarral-El Pardo\, Madrid\, 28049\,\, Spain
CATEGORIES:Scientific activities,Seminars
END:VEVENT
END:VCALENDAR