BEGIN:VCALENDAR
VERSION:2.0
PRODID:-//Instituto de Física Teórica - ECPv6.15.11//NONSGML v1.0//EN
CALSCALE:GREGORIAN
METHOD:PUBLISH
X-ORIGINAL-URL:https://www.ift.uam-csic.es
X-WR-CALDESC:Events for Instituto de Física Teórica
REFRESH-INTERVAL;VALUE=DURATION:PT1H
X-Robots-Tag:noindex
X-PUBLISHED-TTL:PT1H
BEGIN:VTIMEZONE
TZID:Europe/Madrid
BEGIN:DAYLIGHT
TZOFFSETFROM:+0100
TZOFFSETTO:+0200
TZNAME:CEST
DTSTART:20240331T010000
END:DAYLIGHT
BEGIN:STANDARD
TZOFFSETFROM:+0200
TZOFFSETTO:+0100
TZNAME:CET
DTSTART:20241027T010000
END:STANDARD
BEGIN:DAYLIGHT
TZOFFSETFROM:+0100
TZOFFSETTO:+0200
TZNAME:CEST
DTSTART:20250330T010000
END:DAYLIGHT
BEGIN:STANDARD
TZOFFSETFROM:+0200
TZOFFSETTO:+0100
TZNAME:CET
DTSTART:20251026T010000
END:STANDARD
BEGIN:DAYLIGHT
TZOFFSETFROM:+0100
TZOFFSETTO:+0200
TZNAME:CEST
DTSTART:20260329T010000
END:DAYLIGHT
BEGIN:STANDARD
TZOFFSETFROM:+0200
TZOFFSETTO:+0100
TZNAME:CET
DTSTART:20261025T010000
END:STANDARD
END:VTIMEZONE
BEGIN:VEVENT
DTSTART;TZID=Europe/Madrid:20250924T103000
DTEND;TZID=Europe/Madrid:20250924T120000
DTSTAMP:20260424T074844
CREATED:20250922T030615Z
LAST-MODIFIED:20251218T084759Z
UID:22798-1758709800-1758715200@www.ift.uam-csic.es
SUMMARY:PhD dissertation: Advancing Gravitational Wave Data Analysis and  Exploring New Sources
DESCRIPTION:Gonzalo Morrás PhD dissertation.\n\nSupervisor: Juan García-Bellido\n\nVenue&Time: Blue Room / 10:30 AM\n\n\nAbstract: Gravitational wave (GW) astronomy has opened a new window onto the Universe\, allowing us to study compact objects and fundamental physics. This thesis develops new methods and models to improve the detection and interpretation of GW signals\, with a focus on exotic and underexplored sources. It includes pioneering searches for close hyperbolic encounters\, studies of low-mass and sub-solar-mass binaries\, analyses of local cosmic effects on merger rates\, and the development of advanced waveform models and data analysis algorithms. These contributions enhance our ability to uncover new astrophysical phenomena and will support future GW observations with current and next-generation detectors.
URL:https://www.ift.uam-csic.es/event/advancing-gravitational-wave-data-analysis-and-exploring-new-sources/
LOCATION:Blue Room\, Instituto de Física Teórica (IFT) - C. Nicolás Cabrera\, 13-15\, Fuencarral-El Pardo\, Madrid\, 28049\,\, Spain
CATEGORIES:PhD Dissertation,Scientific activities,Training
END:VEVENT
BEGIN:VEVENT
DTSTART;TZID=Europe/Madrid:20250924T113000
DTEND;TZID=Europe/Madrid:20250924T123000
DTSTAMP:20260424T074844
CREATED:20250922T031149Z
LAST-MODIFIED:20251125T081259Z
UID:22804-1758713400-1758717000@www.ift.uam-csic.es
SUMMARY:QIJC: Higher Abelian Quantum Double Models: Introduction to the Characterization and Classification of the Ground State Subspace
DESCRIPTION:Quantum Information Journal Club \nSpeaker: Javier Ignacio Lorca Espiro (Universidad de la Frontera\, Chile) \nVenue&Time: Grey Room 3 / 11:30 AM \nAbstract: Higher dimensional abelian quantum double models have been shown to be well defined in any finite dimension and exhibit the characteristic behavior of SPT phases models. In this talk\, we will introduce the problem and discuss the characterization of the topological ground state subspace and ts classification scheme. We will discuss the connection of these models with pressing problems in condensed matter physics and quantum computation.
URL:https://www.ift.uam-csic.es/event/qijc-higher-abelian-quantum-double-models-introduction-to-the-characterization-and-classification-of-the-ground-state-subspace/
LOCATION:Gray Room 3\, Instituto de Física Teórica (IFT) -C. Nicolás Cabrera\, 13-15\, Fuencarral-El Pardo\, Madrid\, 28049\,\, Spain
CATEGORIES:Journal clubs,Scientific activities
END:VEVENT
BEGIN:VEVENT
DTSTART;TZID=Europe/Madrid:20250924T150000
DTEND;TZID=Europe/Madrid:20250924T160000
DTSTAMP:20260424T074844
CREATED:20250922T064515Z
LAST-MODIFIED:20251218T085608Z
UID:22830-1758726000-1758729600@www.ift.uam-csic.es
SUMMARY:Kaluza-Klein Amplitudes in AdS: the Virasoro-Shapiro and the Veneziano Amplitudes
DESCRIPTION:Speaker: Bo Wang from Zhejiang U. Inst. Mod. Phys. \nVenue&Time: Red Room / 3:00 PM \nAbstract: \nI will report recent progress on AdS Virasoro-Shapiro and Veneziano amplitudes for half-BPS operators with arbitrary Kaluza-Klein modes. The key ingredient is a bootstrap built directly in the world-sheet representation\, together with a novel formalism. This approach yields a structural string description of AdS amplitude and a precise correspondence with correlators in N=4 SYM: at first curvature order we obtain a unique solution. I will also discuss the applications to broader holographic models beyond AdS5*S5.
URL:https://www.ift.uam-csic.es/event/kaluza-klein-amplitudes-in-ads-the-virasoro-shapiro-and-the-veneziano-amplitudes/
CATEGORIES:Scientific activities,Seminars
END:VEVENT
END:VCALENDAR