BEGIN:VCALENDAR
VERSION:2.0
PRODID:-//Instituto de Física Teórica - ECPv6.15.11//NONSGML v1.0//EN
CALSCALE:GREGORIAN
METHOD:PUBLISH
X-ORIGINAL-URL:https://www.ift.uam-csic.es
X-WR-CALDESC:Events for Instituto de Física Teórica
REFRESH-INTERVAL;VALUE=DURATION:PT1H
X-Robots-Tag:noindex
X-PUBLISHED-TTL:PT1H
BEGIN:VTIMEZONE
TZID:Europe/Madrid
BEGIN:DAYLIGHT
TZOFFSETFROM:+0100
TZOFFSETTO:+0200
TZNAME:CEST
DTSTART:20240331T010000
END:DAYLIGHT
BEGIN:STANDARD
TZOFFSETFROM:+0200
TZOFFSETTO:+0100
TZNAME:CET
DTSTART:20241027T010000
END:STANDARD
BEGIN:DAYLIGHT
TZOFFSETFROM:+0100
TZOFFSETTO:+0200
TZNAME:CEST
DTSTART:20250330T010000
END:DAYLIGHT
BEGIN:STANDARD
TZOFFSETFROM:+0200
TZOFFSETTO:+0100
TZNAME:CET
DTSTART:20251026T010000
END:STANDARD
BEGIN:DAYLIGHT
TZOFFSETFROM:+0100
TZOFFSETTO:+0200
TZNAME:CEST
DTSTART:20260329T010000
END:DAYLIGHT
BEGIN:STANDARD
TZOFFSETFROM:+0200
TZOFFSETTO:+0100
TZNAME:CET
DTSTART:20261025T010000
END:STANDARD
END:VTIMEZONE
BEGIN:VEVENT
DTSTART;TZID=Europe/Madrid:20251110T090000
DTEND;TZID=Europe/Madrid:20251113T190000
DTSTAMP:20260424T050048
CREATED:20251027T114820Z
LAST-MODIFIED:20251218T085140Z
UID:23479-1762765200-1763060400@www.ift.uam-csic.es
SUMMARY:10th IBS/MultiDark WS: Dark Matter and Axions
DESCRIPTION:The IBS-MultiDark-IFT Workshop is a regular event organized jointly by MultiDark and IBS-CTPU\, this year reaching its tenth anniversary. \nThe aim of the workshop is share ideas\, foster collaborations\, and to discuss recent developments in the field of axion and Dark Matter physics. \nThe second week\, November 10-13\, will focus on Dark Matter/Axions.  \nPROGRAM \nMonday\, Nov. 10:  \n(Chair: Alejandra) \n15.15h: welcome (Sven & Miguel Angel) \n15.30h: Chui-Fan Kong (CTPU/IBS) \n“Testing neutrino mass origins with supernova neutrinos” \n16.00h: Marina Cermeno (UPM)  \n“New probes of supernova axion-like particles in neutrino water Cherenkov detectors” \n16.30h: coffee \n(Chair: Marina) \n17.00h: Mario Reig (CERN) \n“Testing the heterotic string theory with the axion-photon coupling” \n18.00h: reception \n\nTuesday\, Nov. 11:  \n(Chair: David) \n10.00h: Sven Heinemeyer (IFT) \n“SUSY DM in GUTs: Fitting the LHC Excesses” \n10.30h: Suruj Jyoti Das (CTPU/IBS) \n“Affleck-Dine origins of Baryons\, Dark Matter and Inflation” \n11.00h: coffee \n(Chair: Sven) \n11.30h: Jose Valle (IFIC) \n“Collider signatures of fermionic scotogenic dark matter” \n12.00h: Iván Coarasa (UZ)  \n“Eight Years of Dark Matter Search at the Canfranc Underground Laboratory with ANAIS” \n12.30h: Elias Lopez Asamar (IFT) \n“Direct searches for dark matter in the sub-GeV regime” \n13.00h: lunch \n(Chair: Jose) \n15.30h: Alejandra Aguirre Santaella (UV) \n“New insights on low-mass dark matter subhalo tidal tracks via numerical simulations” \n16.00h: David Alonso-González (IFT) \n“Cornered but alive: GeV-scale thermal dark matter from dark photons” \n16.30h: coffee \n\nWednesday\, Nov. 12:  \n11.00h: coffee \n(Chair: Mario) \n11.30h: Sang Hui Im (CTPU/IBS)  \n“The EDM inverse problem” \n12.00h: Sougata Gangly (CTPU/IBS)  \n“Consistent N_eff fitting in big bang nucleosynthesis analysis” \n12.30h: discussion time \n13.00h: lunch \n(Chair: Sang Hui) \n15.30h: Huayang Song (CTPU/IBS) \n“Mediator-induced Decay Chains from Non-Minimal Dark Sectors and Multi-Jet Collider Signatures” \n16.00h:Karen Macías Cárdenas (IFT) \n“Cooling core-collapse supernovae with neutrinophilic dark sectors” \n 16.30h: coffee \n21.00h: workshop dinner \n\nThursday\, Nov 13  \n(Chair: Miguel Angel) \n10.30h: Andrew Buchanan (IFT) \n“High Mass Dark Matter Searches With the High Speed LMC” \n11.00h: coffee \n11.30h: Gaetano di Marco (IFT) \n“The interconversion between gamma rays and ALP across various astrophysical environments: a new numerical approach” \n12.00h: Pedro Jose de la Torre Luque (IFT) \n“Multimessenger constraints for electrophilic feebly interacting particles” \n12.30h: farewell
URL:https://www.ift.uam-csic.es/event/10th-ibs-multidark-ws-dark-matter-and-axions-2/
LOCATION:Gray Room 3\, Instituto de Física Teórica (IFT) -C. Nicolás Cabrera\, 13-15\, Fuencarral-El Pardo\, Madrid\, 28049\,\, Spain
CATEGORIES:Scientific activities,Workshops
END:VEVENT
BEGIN:VEVENT
DTSTART;TZID=Europe/Madrid:20251113T120000
DTEND;TZID=Europe/Madrid:20251113T130000
DTSTAMP:20260424T050048
CREATED:20251107T121058Z
LAST-MODIFIED:20251125T083153Z
UID:23695-1763035200-1763038800@www.ift.uam-csic.es
SUMMARY:SPS Journal Club: Holographic constraints on AdS flux vacua
DESCRIPTION:Speaker: Antonia Paraskevopoulou (Munich\, Max Planck Inst. and LMU Munich) \nVenue & Time: Red Room / 12:00 \nAbstract: In this talk\, I will argue that the covariant entropy bound poses non-trivial restrictions on anti-de Sitter(AdS) flux vacua. After motivating the bound on AdS\, we will see how it naturally arises in the context of the supergravity equations of motion\, based on some reasonable assumptions. In four dimensions\, we argue that the bound suggests a lower bound on the superpotential\, as we will verify in examples. Based on work in progress with N. Cribiori and T. Van Riet.
URL:https://www.ift.uam-csic.es/event/sps-journal-club-holographic-constraints-on-ads-flux-vacua/
LOCATION:IFT Seminar Room/Red Room\, Instituto de Física Teórica (IFT) -C. Nicolás Cabrera\, 13-15\, Fuencarral-El Pardo\, Madrid\, 28049\,\, Spain
CATEGORIES:Journal clubs,Scientific activities
END:VEVENT
BEGIN:VEVENT
DTSTART;TZID=Europe/Madrid:20251113T150000
DTEND;TZID=Europe/Madrid:20251113T160000
DTSTAMP:20260424T050048
CREATED:20251111T094255Z
LAST-MODIFIED:20251218T085419Z
UID:23702-1763046000-1763049600@www.ift.uam-csic.es
SUMMARY:Seminar: 'BipoSH: Structured test bed for cosmic isotropy violation'
DESCRIPTION:Speaker: Tarun Souradeep (Raman Research Institute\, Bengaluru\, India) \nVenue & Time: Red Room / 3:00 PM \nAbstract: The Cosmological Principle\, a fundamental tenet of the ‘standard model of cosmology’\, predicates a statistically isotropic distribution of fluctuations in the measured cosmic microwave background (CMB) temperature and polarization sky maps. Enigmatic anomalies claimed in the WMAP and Planck CMB sky maps\, and some other recent observations\, could challenge the standard model. However\, these claims need to be cast in an objective mathematical framework and established with statistical rigor. Bayesian inference of the underlying covariance structure of random fields on the sphere in the Bipolar Spherical Harmonic (BipoSH) representation\, developed in our research program\, provides such a framework. We review some recent inferences drawn from Planck data and discuss the future prospects with proposed CMB observations.
URL:https://www.ift.uam-csic.es/event/seminar-by-tarun-souradeep-raman-research-institute-bengaluru-india/
LOCATION:IFT Seminar Room/Red Room\, Instituto de Física Teórica (IFT) -C. Nicolás Cabrera\, 13-15\, Fuencarral-El Pardo\, Madrid\, 28049\,\, Spain
CATEGORIES:Scientific activities,Seminars
END:VEVENT
END:VCALENDAR