BEGIN:VCALENDAR
VERSION:2.0
PRODID:-//Instituto de Física Teórica - ECPv6.15.11//NONSGML v1.0//EN
CALSCALE:GREGORIAN
METHOD:PUBLISH
X-ORIGINAL-URL:https://www.ift.uam-csic.es
X-WR-CALDESC:Events for Instituto de Física Teórica
REFRESH-INTERVAL;VALUE=DURATION:PT1H
X-Robots-Tag:noindex
X-PUBLISHED-TTL:PT1H
BEGIN:VTIMEZONE
TZID:Europe/Madrid
BEGIN:DAYLIGHT
TZOFFSETFROM:+0100
TZOFFSETTO:+0200
TZNAME:CEST
DTSTART:20250330T010000
END:DAYLIGHT
BEGIN:STANDARD
TZOFFSETFROM:+0200
TZOFFSETTO:+0100
TZNAME:CET
DTSTART:20251026T010000
END:STANDARD
BEGIN:DAYLIGHT
TZOFFSETFROM:+0100
TZOFFSETTO:+0200
TZNAME:CEST
DTSTART:20260329T010000
END:DAYLIGHT
BEGIN:STANDARD
TZOFFSETFROM:+0200
TZOFFSETTO:+0100
TZNAME:CET
DTSTART:20261025T010000
END:STANDARD
BEGIN:DAYLIGHT
TZOFFSETFROM:+0100
TZOFFSETTO:+0200
TZNAME:CEST
DTSTART:20270328T010000
END:DAYLIGHT
BEGIN:STANDARD
TZOFFSETFROM:+0200
TZOFFSETTO:+0100
TZNAME:CET
DTSTART:20271031T010000
END:STANDARD
END:VTIMEZONE
BEGIN:VEVENT
DTSTART;TZID=Europe/Madrid:20260210T113000
DTEND;TZID=Europe/Madrid:20260210T130000
DTSTAMP:20260424T001233
CREATED:20260123T115715Z
LAST-MODIFIED:20260123T115715Z
UID:24284-1770723000-1770728400@www.ift.uam-csic.es
SUMMARY:Holo Club: 'Holographic fluids with higher-form symmetries'
DESCRIPTION:Title: Holographic fluids with higher-form symmetries\n\nSpeaker: André Oliveira (Heriot-Watt University)\n\nVenue & Time: Grey Room 3 / 11:30\n\nAbstract: Higher-form symmetries are ubiquitous in physics. In this talk\, I focus on the case where they are continuous and encode the conservation of extended objects. Applications include elasticity\, superfluidity and phases of electromagnetism. Using holography\, we explore effective descriptions of systems with the simplest case of a single higher-form symmetry. For energies well below temperature\, these descriptions admit a (potentially extended) hydrodynamic regime. We verify this explicitly by studying AlAdS black branes charged under higher-form potentials. In particular\, we compute quasinormal modes\, starting with the low-density limit. Then\, we focus on the bulk dual of a viscoelastic system and analyse instabilities for different equilibrium states corresponding to isotropic crystalline phases.
URL:https://www.ift.uam-csic.es/event/holo-club-holographic-fluids-with-higher-form-symmetries/
LOCATION:Gray Room 3\, Instituto de Física Teórica (IFT) -C. Nicolás Cabrera\, 13-15\, Fuencarral-El Pardo\, Madrid\, 28049\,\, Spain
CATEGORIES:Journal clubs
END:VEVENT
BEGIN:VEVENT
DTSTART;TZID=Europe/Madrid:20260210T140000
DTEND;TZID=Europe/Madrid:20260210T150000
DTSTAMP:20260424T001233
CREATED:20260209T072642Z
LAST-MODIFIED:20260209T072653Z
UID:24356-1770732000-1770735600@www.ift.uam-csic.es
SUMMARY:Cosmology Journal Club
DESCRIPTION:Every Tuesday at 2:00 PM in the discussion room on the 5th floor. \nJoin the IFT cosmology/gravity journal club at benty-fields.com to vote for papers and volunteer to present them. \n 
URL:https://www.ift.uam-csic.es/event/cosmology-journal-club-13/
LOCATION:Discussion room 5th floor\, C. Nicolás Cabrera\, 13-15\, Fuencarral-El Pardo\, Madrid\, Madrid\, 28049\, Spain
CATEGORIES:Journal clubs,Scientific activities
END:VEVENT
END:VCALENDAR