BEGIN:VCALENDAR
VERSION:2.0
PRODID:-//Instituto de Física Teórica - ECPv6.15.11//NONSGML v1.0//EN
CALSCALE:GREGORIAN
METHOD:PUBLISH
X-ORIGINAL-URL:https://www.ift.uam-csic.es
X-WR-CALDESC:Events for Instituto de Física Teórica
REFRESH-INTERVAL;VALUE=DURATION:PT1H
X-Robots-Tag:noindex
X-PUBLISHED-TTL:PT1H
BEGIN:VTIMEZONE
TZID:Europe/Madrid
BEGIN:DAYLIGHT
TZOFFSETFROM:+0100
TZOFFSETTO:+0200
TZNAME:CEST
DTSTART:20250330T010000
END:DAYLIGHT
BEGIN:STANDARD
TZOFFSETFROM:+0200
TZOFFSETTO:+0100
TZNAME:CET
DTSTART:20251026T010000
END:STANDARD
BEGIN:DAYLIGHT
TZOFFSETFROM:+0100
TZOFFSETTO:+0200
TZNAME:CEST
DTSTART:20260329T010000
END:DAYLIGHT
BEGIN:STANDARD
TZOFFSETFROM:+0200
TZOFFSETTO:+0100
TZNAME:CET
DTSTART:20261025T010000
END:STANDARD
BEGIN:DAYLIGHT
TZOFFSETFROM:+0100
TZOFFSETTO:+0200
TZNAME:CEST
DTSTART:20270328T010000
END:DAYLIGHT
BEGIN:STANDARD
TZOFFSETFROM:+0200
TZOFFSETTO:+0100
TZNAME:CET
DTSTART:20271031T010000
END:STANDARD
END:VTIMEZONE
BEGIN:VEVENT
DTSTART;TZID=Europe/Madrid:20260218T113000
DTEND;TZID=Europe/Madrid:20260218T123000
DTSTAMP:20260424T001337
CREATED:20260216T083243Z
LAST-MODIFIED:20260216T085842Z
UID:24395-1771414200-1771417800@www.ift.uam-csic.es
SUMMARY:Quantum Information Journal Club: 'Quantum Algorithms Based on Cooling'
DESCRIPTION:Date: Wednesday\, February 18 \nAula Gris 2 / 11:30 \nSpeaker: Daniel Molpeceres (TU Munich) \nTítulo: Quantum Algorithms Based on Cooling \nAbstract: The purpose of this work is to study different methods for nature-inspired algorithmic cooling of physical systems\, which rely on energy transfer between the system and a cool bath. These algorithms are suitable for preparation of QMB ground states\, and are therefore an alternative to other well-known procedures such as variational or adiabatic algorithm\, which have their own limitations. The aim of the paper is to develop this theory\, and try to find in what regimes it works best\, such that it can be used as an alternative or in collaboration with the previous methods. We will focus on a free-fermion model with hoppings in a 1D lattice and a certain distribution of auxiliary systems per site\, try to find regimes in which the system reaches the ground state\, and then extrapolate what we learn from this model into a more general noisy setting. The main questions to address are how the performance changes with the noise that may appear in an experimental setting\, as well as a comparison with other methods such as adiabatic algorithm or QAOA.
URL:https://www.ift.uam-csic.es/event/quantum-information-journal-club-quantum-algorithms-based-on-cooling/
LOCATION:Grey Room 2\, Instituto de Física Teórica\, Madrid\, Madrid\, 28037\, Spain
CATEGORIES:Journal clubs,Scientific activities
END:VEVENT
END:VCALENDAR