BEGIN:VCALENDAR
VERSION:2.0
PRODID:-//Instituto de Física Teórica - ECPv6.15.11//NONSGML v1.0//EN
CALSCALE:GREGORIAN
METHOD:PUBLISH
X-ORIGINAL-URL:https://www.ift.uam-csic.es
X-WR-CALDESC:Events for Instituto de Física Teórica
REFRESH-INTERVAL;VALUE=DURATION:PT1H
X-Robots-Tag:noindex
X-PUBLISHED-TTL:PT1H
BEGIN:VTIMEZONE
TZID:Europe/Madrid
BEGIN:DAYLIGHT
TZOFFSETFROM:+0100
TZOFFSETTO:+0200
TZNAME:CEST
DTSTART:20250330T010000
END:DAYLIGHT
BEGIN:STANDARD
TZOFFSETFROM:+0200
TZOFFSETTO:+0100
TZNAME:CET
DTSTART:20251026T010000
END:STANDARD
BEGIN:DAYLIGHT
TZOFFSETFROM:+0100
TZOFFSETTO:+0200
TZNAME:CEST
DTSTART:20260329T010000
END:DAYLIGHT
BEGIN:STANDARD
TZOFFSETFROM:+0200
TZOFFSETTO:+0100
TZNAME:CET
DTSTART:20261025T010000
END:STANDARD
BEGIN:DAYLIGHT
TZOFFSETFROM:+0100
TZOFFSETTO:+0200
TZNAME:CEST
DTSTART:20270328T010000
END:DAYLIGHT
BEGIN:STANDARD
TZOFFSETFROM:+0200
TZOFFSETTO:+0100
TZNAME:CET
DTSTART:20271031T010000
END:STANDARD
END:VTIMEZONE
BEGIN:VEVENT
DTSTART;TZID=Europe/Madrid:20260416T120000
DTEND;TZID=Europe/Madrid:20260416T130000
DTSTAMP:20260423T210126
CREATED:20260412T202323Z
LAST-MODIFIED:20260412T210607Z
UID:24879-1776340800-1776344400@www.ift.uam-csic.es
SUMMARY:Pheno Journal Club: Unitarity limits on triple gauge boson production
DESCRIPTION:Daniel Domenech Moya (IFT) will present “Unitarity limits on triple gauge boson production”.\n\nVenue & Time: Gray Room 2 / 12:00\n\nAbstract:\n\nWe derive the unitarity constraints on anomalous quartic gauge couplings originating from the f ¯f ′ → V V ′V ′′ channel with V (′)(′′) = γ\, Z\, W ±\, and H. We also assess the importance of these bounds on the present and future experimental searches.
URL:https://www.ift.uam-csic.es/event/pheno-journal-club-unitarity-limits-on-triple-gauge-boson-production/
LOCATION:Grey Room 2\, Instituto de Física Teórica\, Madrid\, Madrid\, 28037\, Spain
CATEGORIES:Journal clubs,Scientific activities
END:VEVENT
BEGIN:VEVENT
DTSTART;TZID=Europe/Madrid:20260416T120000
DTEND;TZID=Europe/Madrid:20260416T130000
DTSTAMP:20260423T210126
CREATED:20260412T202852Z
LAST-MODIFIED:20260413T104338Z
UID:24881-1776340800-1776344400@www.ift.uam-csic.es
SUMMARY:Strings\, Pheno and the Swampland (SPS) Journal Club
DESCRIPTION:Every Thursday at 12:00 in the Red Room. \nTitulo: The Art of Branching: Cobordism Junctions of 10d String Theories \nSpeaker: Edoardo Anastasi (IFT) \nAbstract: We describe the explicit construction of configurations of several 10d string theories joining at a 9d junction\, providing a dynamical realization of cobordisms between multiple 10d string theories\, predicted by the Cobordism Conjecture. We provide the microscopic worldsheet description of the configuration in a generalization of the `going up and down the RG flow’ interpolations recently used in the description of IIA/IIB domain wall. The interpolations involve additional degrees of freedom\, which are gapped except at the branch point\, at which the gap closes and triggers the branching transition. The extra degrees of freedom admit an interpretation in terms of additional dimensions in a supercritical string theory\, which reduces to the 10d junction configuration upon closed tachyon condensation. Quantum corrections of the 2d worldsheet theory turn the junction into a strongly coupled lightlike core whose UV resolution lies beyond worldsheet techniques. We construct explicit examples of junctions of 10d heterotic string theories\, type 0\, and type II theories and orientifolds thereof. Our explicit examples include junctions of 10d chiral theories whose chiral fields flow between different branches. One particularly nice configuration is a 4-branch junction of the IIB theory\, with type I\, the non-supersymmetric USp(32) theory and the U(32) orientifold of 0B theory\, thus assembling the four non-tachyonic descendants of type 0B theory.
URL:https://www.ift.uam-csic.es/event/strings-pheno-and-the-swampland-sps-journal-club-3/
LOCATION:IFT Seminar Room/Red Room\, Instituto de Física Teórica (IFT) -C. Nicolás Cabrera\, 13-15\, Fuencarral-El Pardo\, Madrid\, 28049\,\, Spain
CATEGORIES:Journal clubs,Scientific activities
END:VEVENT
BEGIN:VEVENT
DTSTART;TZID=Europe/Madrid:20260416T150000
DTEND;TZID=Europe/Madrid:20260416T160000
DTSTAMP:20260423T210126
CREATED:20260119T110832Z
LAST-MODIFIED:20260416T075356Z
UID:24228-1776351600-1776355200@www.ift.uam-csic.es
SUMMARY:Seminar: 'Symmetry TFTs for Continuous Spacetime Symmetries'
DESCRIPTION:Title: Symmetry TFTs for Continuous Spacetime Symmetries \nSpeaker: Iñaki Garcia Etxebarria (Durham U.) \nVenue & Time: Red Room / 3:00 PM \nAbstract: I will discuss our recent proposal for the Symmetry Topological Field Theory (SymTFT) for global\, continuous spacetime symmetries ( https://arxiv.org/abs/2509.07965 ). For a d-dimensional theory\, it is given by a (d + 1)-dimensional BF-theory for the spacetime symmetry group\, and whenever d is even\, it includes also Chern-Simons couplings\, that encode conformal and gravitational anomalies. This proposal is supported by the similarity to two- dimensional Jackiw-Teitelboim gravity in the d = 1 case and the topological limit of four-dimensional gravity in the d = 3 case. I will discuss how topological defects constructed from this SymTFT act by applying the associated spacetime symmetry transformation. Finally\, I will discuss the relation to gravity and holography.
URL:https://www.ift.uam-csic.es/event/seminar-by-inaki-garcia-etxebarria/
LOCATION:IFT Seminar Room/Red Room\, Instituto de Física Teórica (IFT) -C. Nicolás Cabrera\, 13-15\, Fuencarral-El Pardo\, Madrid\, 28049\,\, Spain
CATEGORIES:Scientific activities,Seminars
END:VEVENT
END:VCALENDAR