BEGIN:VCALENDAR
VERSION:2.0
PRODID:-//Instituto de Física Teórica - ECPv6.15.11//NONSGML v1.0//EN
CALSCALE:GREGORIAN
METHOD:PUBLISH
X-ORIGINAL-URL:https://www.ift.uam-csic.es
X-WR-CALDESC:Events for Instituto de Física Teórica
REFRESH-INTERVAL;VALUE=DURATION:PT1H
X-Robots-Tag:noindex
X-PUBLISHED-TTL:PT1H
BEGIN:VTIMEZONE
TZID:Europe/Madrid
BEGIN:DAYLIGHT
TZOFFSETFROM:+0100
TZOFFSETTO:+0200
TZNAME:CEST
DTSTART:20250330T010000
END:DAYLIGHT
BEGIN:STANDARD
TZOFFSETFROM:+0200
TZOFFSETTO:+0100
TZNAME:CET
DTSTART:20251026T010000
END:STANDARD
BEGIN:DAYLIGHT
TZOFFSETFROM:+0100
TZOFFSETTO:+0200
TZNAME:CEST
DTSTART:20260329T010000
END:DAYLIGHT
BEGIN:STANDARD
TZOFFSETFROM:+0200
TZOFFSETTO:+0100
TZNAME:CET
DTSTART:20261025T010000
END:STANDARD
BEGIN:DAYLIGHT
TZOFFSETFROM:+0100
TZOFFSETTO:+0200
TZNAME:CEST
DTSTART:20270328T010000
END:DAYLIGHT
BEGIN:STANDARD
TZOFFSETFROM:+0200
TZOFFSETTO:+0100
TZNAME:CET
DTSTART:20271031T010000
END:STANDARD
END:VTIMEZONE
BEGIN:VEVENT
DTSTART;TZID=Europe/Madrid:20260427T150000
DTEND;TZID=Europe/Madrid:20260427T160000
DTSTAMP:20260423T204154
CREATED:20260129T125809Z
LAST-MODIFIED:20260423T153319Z
UID:24310-1777302000-1777305600@www.ift.uam-csic.es
SUMMARY:Seminar: 'Collective vortex dynamics in strongly coupled superfluids'
DESCRIPTION:Title: Collective vortex dynamics in strongly coupled superfluids \nSpeaker: Mikel Sanchez-Garitaonandia (University College Dublin) \nVenue&Time: Red Room / 15:00 \n\nAbstract: Vorticity appears across a wide range of fluid phenomena\, from the dynamics of classical fluids to quantum vortices in superfluids. In the latter case\, vortices are topological defects that interact both with each other and with the surrounding medium. When a large number of vortices are present\, it is natural to ask whether their collective behaviour can itself be described as a fluid\, captured by an effective theory of vortex hydrodynamics. In this talk\, I will explore the dynamics of many vortices in a strongly coupled superfluid with holography. By performing real-time simulations\, I will investigate how the system approaches equilibrium and how its macroscopic behaviour compares with the predictions of vortex hydrodynamics. This allows to assess the range of validity of the hydrodynamic description and to understand how the system behaves beyond it.
URL:https://www.ift.uam-csic.es/event/ift-seminar-mikel-sanchez-garitaonandia/
LOCATION:IFT Seminar Room/Red Room\, Instituto de Física Teórica (IFT) -C. Nicolás Cabrera\, 13-15\, Fuencarral-El Pardo\, Madrid\, 28049\,\, Spain
CATEGORIES:Scientific activities,Seminars
END:VEVENT
END:VCALENDAR